BEGIN:VCALENDAR
VERSION:2.0
PRODID:https://github.com/derhansen/sf_event_mgt
METHOD:PUBLISH
BEGIN:VEVENT
UID:429-527@www.hs-ludwigsburg.de
CLASS: PUBLIC
SUMMARY:Vergaberechtskonforme Beschaffung von Liefer- und Dienstleistungen
DESCRIPTION:Öffentliche Auftraggeber haben bei der Beschaffung von Liefer- 
 und Dienstleistungen gemäß den Regeln des Vergaberechts vorzugehen. Ziel de
 s Seminars ist es, alle Einzelschritte eines Vergabeverfahrens in praxisori
 entierter und verständlicher Form darzustellen sowie den Teilnehmenden ein 
 „Drehbuch“ für eigene Aktivitäten an die Hand zu geben.\n\nNeben den formal
 en Vergabeverfahren des Unter- und Oberschwellenbereichs wird auch der vere
 infachte Verfahrensablauf beim Direktauftrag (Wertegrenze gemäß VwV Beschaf
 fung/ VergabeVwV bis 100.000 €) dargestellt.\n\n\n\nDozent: Martin Krist\n\
 n\n\n Anmeldung   Nichts verpassen: LUCCA-Newsletter abonnieren\n\n\n\nWir 
 bieten folgende Vertiefungsseminare im Bereich Vergaberecht an:\n\nWie erst
 elle ich eine korrekte Leistungsbeschreibung? Datum: 26.06.2026, Kosten: 19
 9,00 € \n\nWas ist bei der Auswahl von Kriterien für die Angebotswertung so
 wie deren Gewichtung zu beachten? Datum: 20.10.2026, Kosten: 199,00 € \n\nD
 ie Seminare können einzeln besucht werden, sind jedoch inhaltlich aufeinand
 er abgestimmt.\n\n\n\nLive-Online-Weiterbildungsveranstaltung über die Plat
 tform Zoom. Bitte beachten Sie hierzu die Datenschutzhinweise auf der Anmel
 deseite.
DTSTAMP:20260317T075603Z
DTSTART:20260609T070000Z
DTEND:20260609T141500Z
END:VEVENT
END:VCALENDAR