BEGIN:VCALENDAR
VERSION:2.0
PRODID:https://github.com/derhansen/sf_event_mgt
METHOD:PUBLISH
BEGIN:VEVENT
UID:233-538@www.hs-ludwigsburg.de
CLASS: PUBLIC
SUMMARY:Walk for Freedom - Schweigemarsch gegen Menschenhandel und (Zwangs) Prostitution
DESCRIPTION:Datum: 18.10.24\n\nUhrzeit: 16:00 - 18:00 Uhr\n\nOrt: Marktplat
 z Ludwigsburg\n\n\n\nErster Walk for Freedom in Ludwigsburg - Menschen sind
  keine Ware\n\n\n\nDas Ludwigsburger Bündnis gegen Menschenhandel und Zwang
 sprostitution lädt schon heute zum ersten Walk for Freedom ein. Der Walk fo
 r Freedom ist ein Schweigemarsch, es geht darum aufzustehen und ein Zeichen
  zu setzen gegen Menschenhandel, moderne Sklaverei und Zwangsprostitution. 
 „Du kannst dich entscheiden wegzusehen, aber du wirst nie mehr sagen können
 , du hättest es nicht gewusst“ (William Wilberforce). Der Walk beginnt und 
 endet am Marktplatz in Ludwigsburg, ab ca. 17.15 Uhr wird am Marktplatz ein
 e Schlusskundgebung mit Performance Künstlern und anderen Akteurinnen und A
 kteuren stattfinden. \n\n\n\nAlle weiteren Infos im PDF-Flyer weiter unten 
 oder unter https://www.buendnisludwigsburg.de\n\n\n\nKontakt: Prof. Dr. phi
 l. Gunda Maria Rosenauer 
DTSTAMP:20241001T150829Z
DTSTART:20241018T140000Z
DTEND:20241018T160000Z
END:VEVENT
END:VCALENDAR