BEGIN:VCALENDAR
VERSION:2.0
PRODID:https://github.com/derhansen/sf_event_mgt
METHOD:PUBLISH
BEGIN:VEVENT
UID:460-527@www.hs-ludwigsburg.de
CLASS: PUBLIC
SUMMARY:Update Umsatzsteuer April 2026
DESCRIPTION:Die fortwährenden Veränderungen im Umsatzsteuerrecht durch Gese
 tzgebung, Steuerverwaltung und Rechtsprechung stellen die Praxis nahezu täg
 lich vor neue Herausforderungen. In diesem Online-Seminar erhalten Sie eine
 n Überblick über eine Auswahl der jüngsten umsatzsteuerrechtlichen Änderung
 en durch die Gesetzgebung und Rechtsprechung.\n\n\n\nDozent: Prof. Dr. Sasc
 ha Gieseler\n\n\n\nAnmeldung     Nichts verpassen: LUCCA-Newsletter abonnie
 ren  \n\n\n\nLive-Online-Weiterbildungsveranstaltung über die Plattform Zoo
 m. Bitte beachten Sie hierzu die Datenschutzhinweise auf der Anmeldeseite.\
 n\n\n\nEin weiterer Termin zum Thema Update Umsatzsteuer findet am Freitag,
  20. November 2026 statt - weitere Informationen.
DTSTAMP:20260401T065641Z
DTSTART:20260424T080000Z
DTEND:20260424T100000Z
END:VEVENT
END:VCALENDAR