BEGIN:VCALENDAR
VERSION:2.0
PRODID:https://github.com/derhansen/sf_event_mgt
METHOD:PUBLISH
BEGIN:VEVENT
UID:529-538@www.hs-ludwigsburg.de
CLASS: PUBLIC
SUMMARY:Informationsnachmittag: Gleichzeitige und gemeinsame Prüfungen nach §§ 12 und 12a EUAHiG, 117b AO
DESCRIPTION:Das Zentrum für Internationale Betriebsprüfung (an der OFD BW) 
 geleitet von Frau Prof. Dr. Angelika Dölker lädt Sie herzlich ein\n\n\n\nWo
 zu?\n\nzum Informationsnachmittag zum Thema\n\nGleichzeitige und gemeinsame
  Prüfungen nach §§ 12 und 12a EUAHiG, 117b AO\n\n-das Merkblatt von Mai 202
 5-\n\nAls Vortragenden konnten wir Herrn Karsten Flüchter gewinnen, der das
  entsprechende Referat im Bundeszentralamt für Steuern leitet, ebenso wie F
 rau Dölker in der Bund-Länder AG Internationale Prüfungs- und Risikobewertu
 ngsverfahren mitarbeitet und entsprechend auch gerne Fragen zur grenzübersc
 hreitenden Zusammenarbeit bei Betriebsprüfungen beantwortet.\n\n\n\nWann?\n
 \nAm 9. Juni 2026 von 13:30- 15:30\n\n\n\nWo? \n\nAn der Hochschule für öff
 entliche Verwaltung und Finanzen, Ludwigsburg\n\nIn Raum 6.325/6.326 (Gebäu
 de 6, dritter Stock)\n\nLink zu Google-Maps mit Koordinaten von HVF-Gebäude
  6: https://maps.app.goo.gl/6AjZXF4ygFqvJLFk9\n\n\n\nDie Veranstaltung ist 
 für Kolleginnen und Kollegen der Professorenschaft und unsere Studierenden 
 offen.\n\n\n\nFragen und Rückmeldungen gerne an Herrn Dominik Zotz, ZiBp\n\
 nDominik.zotz@ofd.bwl.de
DTSTAMP:20260417T140319Z
DTSTART:20260609T113000Z
DTEND:20260609T133000Z
END:VEVENT
END:VCALENDAR