BEGIN:VCALENDAR
VERSION:2.0
PRODID:https://github.com/derhansen/sf_event_mgt
METHOD:PUBLISH
BEGIN:VEVENT
UID:458-1411@www.hs-ludwigsburg.de
CLASS: PUBLIC
SUMMARY:Die gesunde Kommune von Morgen - Fachtag Online der EH Ludwigsburg
DESCRIPTION:Datum: 07.05.26\n\nUhrzeit: 09:30 - 16:30 Uhr\n\nTeilnehmendeng
 ebühr: 40,00 €\n\n\n\nAuch das Jahr 2026 wird von Herausforderungen und der
  Suche nach konstruktiven Lösungen für gesunde und resiliente Kommunen gepr
 ägt sein. Nach zwei erfolgreichen Fachtagen vor Ort, werden wir unseren bew
 ährten Fachtag „Die gesunde Kommune von morgen“ im neuen Jahr nun online du
 rchführen und möchten Sie bereits heute mit einem safe the date dazu inform
 ieren und herzlich einladen.\n\n\n\nDas gesundheitliche Wohlbefinden der Be
 völkerung hängt maßgeblich von den lokalen Bedingungen ab, insbesondere von
  der gesundheitlichen Infrastruktur. Klimatische Veränderungen und umweltbe
 dingte Risiken in den Ballungsräumen, wie dichter Verkehr und intensive Beb
 auung, stellen die Kommunen vor besondere Herausforderungen. Gleichzeitig h
 at sich die Sicherheitslage in den letzten Jahren in Europa grundlegend gew
 andelt, was ebenfalls neue Aufgaben für die Kommunen mit sich bringt. Auf d
 em Weg hin zu einer „gesunden Kommune von morgen“ müssen daher neben der Re
 silienz in einer nachhaltigen Stadtentwicklung auch Katastrophenszenarien a
 us kommunaler Sicht in den Blick genommen werden.\n\n\n\nAuf der Suche nach
  praxisnahen Antworten werden in Workshops die folgenden Themen vertieft:\n
 \n1.           Kinderfreundliche Stadtentwicklung,\n\n2.           Cyberang
 riffe und Folgen von Blackouts,\n\n3.           das Community readiness ass
 essment               (ein Werkzeug, um den Reifegrad einer Gesellschaft im
  Hinblick auf die Bewältigung von Problemen zu erfassen)\n\n4.           un
 d die gesunde Gemeinde- und Stadtentwicklung aus der Perspektive des ÖGD..\
 n\n\n\nDas ausführliche Programm erhalten Sie hier.\n\n\n\nDer Onlinefachta
 g mit Vorträgen und Workshops wird veranstaltet vom Ministerium für Soziale
 s, Gesundheit und Integration/Landesgesundheitsamt Baden-Württemberg in Koo
 peration mit der Evangelischen Hochschule Ludwigsburg, der APOLLON Hochschu
 le Bremen und der Hochschule für öffentliche Verwaltung und Finanzen Ludwig
 sburg, dem Landkreistag Baden-Württemberg und dem Gemeindetag Baden-Württem
 berg.\n\n\n\nDer Fachtag der EH Ludwigsburg findet am 07.05.2026 von 9.30 U
 hr – 16.30 Uhr online statt.\n\n\n\nWir freuen uns auf den Austausch mit Ih
 nen!\n\n\n\nZur Anmeldung\n\n\n\nZur Veranstaltungs-Website der EH\n\n\n\n
DTSTAMP:20260317T110408Z
DTSTART:20260507T073000Z
DTEND:20260507T143000Z
END:VEVENT
END:VCALENDAR