BEGIN:VCALENDAR
VERSION:2.0
PRODID:https://github.com/derhansen/sf_event_mgt
METHOD:PUBLISH
BEGIN:VEVENT
UID:222-538@www.hs-ludwigsburg.de
CLASS: PUBLIC
SUMMARY:Fachtag "Gesunde Kommune - Herausforderungen der Zukunft"
DESCRIPTION:Für das gesundheitliche Wohlbefinden der Bevölkerung sind die 
 lokalen Bedingungen wie gesundheitliche Infrastruktur sowie das Gesundheits
 monitoring von entscheidender Bedeutung. Klimatischer Veränderungen und umw
 eltbedingte Risiken in den Ballungsräumen durch dichten Verkehr, intensive 
 Bebauungsmaßnahmen und hohen Energieverbrauch stellen die Kommunen vor spez
 ifische Herausforderungen. Dabei geht es nicht nur um die körperliche, sond
 ern auch die psychische Gesundheit für alle Altersgruppen. Auf dem Weg hin 
 zu einer „klimaresilienten Kommune“ müssen unterschiedliche Standortbedingu
 ngen, vulnerable Gruppen und die Förderung von Gesundheitskompetenz in den 
 Kommunen berücksichtigt werden.\n\n\n\nAuf der Suche nach praxisnahen Antwo
 rten, wie eine wohnortnahe, qualitativ hochwertige Gesundheitsversorgung vo
 r Ort auch unter Nachhaltigkeitsaspekten\n\nin Zukunft möglich ist, laden w
 ir Sie herzlich zum Fachtag „ Gesundheit und Kommune – Herausforderungen de
 r Zukunft“  ein.\n\n\n\nDer Fachtag mit Vorträgen und Workshops wird verans
 taltet vom Ministerium für Soziales, Gesundheit und Integration/Landesgesun
 dheitsamt Baden-Württemberg in Kooperation mit der Evangelischen Hochschule
  Ludwigsburg, der APOLLON Hochschule Bremen und der Hochschule für öffentli
 che Verwaltung und Finanzen Ludwigsburg.\n\n\n\nDer Fachtag findet am 25.10
 .2024 von 9.30 Uhr – 16.30 Uhr an der Evangelischen Hochschule Ludwigsburg 
 statt.\n\n\n\nAnmeldung und alle weiteren Informationen wie das Programm un
 ter: https://www.eh-ludwigsburg.de/weiterbildung/das-angebot-des-ifw/angebo
 te-chronologisch/details/fachtag-gesundheit-und-kommune-herausforderungen-d
 er-zukunft
DTSTAMP:20240829T083847Z
DTSTART:20241025T073000Z
DTEND:20241025T143000Z
END:VEVENT
END:VCALENDAR