BEGIN:VCALENDAR
VERSION:2.0
PRODID:https://github.com/derhansen/sf_event_mgt
METHOD:PUBLISH
BEGIN:VEVENT
UID:244-538@www.hs-ludwigsburg.de
CLASS: PUBLIC
SUMMARY:Akademische Feier mit Antrittsvorlesungen
DESCRIPTION:Mit der akademischen Feier möchten wir an eine Tradition anknüp
 fen, die durch die Einschränkungen während der Corona-Pandemie nicht weiter
 geführt werden konnte.\n\n\n\nAb sofort sollen alle neu eintretenden Profes
 sorinnen und Professoren wieder die Gelegenheit bekommen, sich und ihr Scha
 ffen der Hochschulöffentlichkeit vorzustellen.\n\n\n\nZu Beginn freuen wir 
 uns auf die Antrittsvorlesungen von zwei Professoren, die bereits seit  202
 0 an der Hochschule sind: Prof. Dr. Matthias Reich ist Inhaber der Professu
 r für Besitz- und Verkehrssteuern an der Fakultät II; mit ihm gestaltet Pro
 f. Dr. Alois Paulin, Professor für Digitale Innovation und Transformation i
 n der öffentlichen Verwaltung an der Fakultät I, den Nachmittag.\n\n\n\nWen
 n Sie teilnehmen möchten, freuen wir uns über eine kurze Rückmeldung an ver
 anstaltungen@hs-ludwigsburg.de.\n\n\n\nWeitere Informationen finden Sie im 
 PDF unter Downloads.
DTSTAMP:20241016T120324Z
DTSTART:20241022T130000Z
DTEND:20241022T153000Z
END:VEVENT
END:VCALENDAR